BEGIN:VCALENDAR
VERSION:2.0
CALSCALE:GREGORIAN
PRODID:adamgibbons/ics
METHOD:PUBLISH
X-PUBLISHED-TTL:PT1H
BEGIN:VEVENT
UID:9543@calendari.cc
SUMMARY:Homenaje a Patricia Heras
DTSTAMP:20260422T132118Z
DTSTART:20260424T130000Z
DTEND:20260424T180000Z
URL:https://calendari.cc/event/homenaje-a-patricia-heras
GEO:41.3784;2.16782
LOCATION:Agora Juan Andrés Benítez - carrer Riereta amb Aurora
STATUS:CONFIRMED
CATEGORIES:ciutatMorta,homenatge,PatriciaHeras,Raval,violència policial
END:VEVENT
END:VCALENDAR
